BEGIN:VCALENDAR
VERSION:2.0
PRODID:-//wp-events-plugin.com//7.2.3.1//EN
TZID:Africa/Nairobi
X-WR-TIMEZONE:Africa/Nairobi
BEGIN:VEVENT
UID:2@nudsa.co.ke
DTSTART;TZID=Africa/Nairobi:20260122T000000
DTEND;TZID=Africa/Nairobi:20260122T000000
DTSTAMP:20260104T014152Z
URL:https://nudsa.co.ke/events/cme-event-sponsored/
SUMMARY:CME EVENT (SPONSORED)
DESCRIPTION:
END:VEVENT
BEGIN:VTIMEZONE
TZID:Africa/Nairobi
X-LIC-LOCATION:Africa/Nairobi
BEGIN:STANDARD
DTSTART:20250122T000000
TZOFFSETFROM:+0300
TZOFFSETTO:+0300
TZNAME:EAT
END:STANDARD
END:VTIMEZONE
END:VCALENDAR