BEGIN:VCALENDAR
VERSION:2.0
PRODID:-//wp-events-plugin.com//7.2.3.1//EN
TZID:Africa/Nairobi
X-WR-TIMEZONE:Africa/Nairobi
BEGIN:VEVENT
UID:1@nudsa.co.ke
DTSTART;TZID=Africa/Nairobi:20260117T080000
DTEND;TZID=Africa/Nairobi:20260117T180000
DTSTAMP:20260104T014058Z
URL:https://nudsa.co.ke/events/dental-camp/
SUMMARY:DENTAL CAMP
DESCRIPTION:
END:VEVENT
BEGIN:VTIMEZONE
TZID:Africa/Nairobi
X-LIC-LOCATION:Africa/Nairobi
BEGIN:STANDARD
DTSTART:20250117T080000
TZOFFSETFROM:+0300
TZOFFSETTO:+0300
TZNAME:EAT
END:STANDARD
END:VTIMEZONE
END:VCALENDAR