BEGIN:VCALENDAR
VERSION:2.0
PRODID:-//wp-events-plugin.com//7.2.3.1//EN
TZID:Africa/Nairobi
X-WR-TIMEZONE:Africa/Nairobi
BEGIN:VEVENT
UID:3@nudsa.co.ke
DTSTART;TZID=Africa/Nairobi:20260123T000000
DTEND;TZID=Africa/Nairobi:20260123T000000
DTSTAMP:20260104T014251Z
URL:https://nudsa.co.ke/events/financial-webinar/
SUMMARY:FINANCIAL WEBINAR
DESCRIPTION:
END:VEVENT
BEGIN:VTIMEZONE
TZID:Africa/Nairobi
X-LIC-LOCATION:Africa/Nairobi
BEGIN:STANDARD
DTSTART:20250123T000000
TZOFFSETFROM:+0300
TZOFFSETTO:+0300
TZNAME:EAT
END:STANDARD
END:VTIMEZONE
END:VCALENDAR